BEGIN:VCALENDAR
VERSION:2.0
PRODID:-//eventon.com NONSGML v1.0//EN
CALSCALE:GREGORIAN
METHOD:PUBLISH
BEGIN:VEVENT
UID:69e8dd67b79a0
DTSTAMP:20260422T143831Z
DTSTART:20251129T203000Z
DTEND:20251129T233000Z
LOCATION:
SUMMARY:Concert pour Restaurant Scolaire de Chilly - Chilly -74
DESCRIPTION:Concert pour Restaurant Scolaire de Chilly - Chilly -74\nhttps:
 //roseetwilly.fr/events/concert-pour-restaurant-scolaire-de-chilly-chilly-7
 4/
URL:https://roseetwilly.fr/events/concert-pour-restaurant-scolaire-de-chilly-chilly-74/
END:VEVENT
END:VCALENDAR