BEGIN:VCALENDAR
VERSION:2.0
PRODID:-//eventon.com NONSGML v1.0//EN
CALSCALE:GREGORIAN
METHOD:PUBLISH
BEGIN:VEVENT
UID:69e544c24a00b
DTSTAMP:20260419T211026Z
DTSTART:20260725T193000Z
DTEND:20260725T230000Z
LOCATION:
SUMMARY:Soirée Privée - Tresserve - 73
DESCRIPTION:Soirée Privée - Tresserve - 73\nhttps://roseetwilly.fr/events
 /soiree-privee-tresserve-73/
URL:https://roseetwilly.fr/events/soiree-privee-tresserve-73/
END:VEVENT
END:VCALENDAR