BEGIN:VCALENDAR
VERSION:2.0
PRODID:-//eventon.com NONSGML v1.0//EN
CALSCALE:GREGORIAN
METHOD:PUBLISH
BEGIN:VEVENT
UID:69e5453eb6e30
DTSTAMP:20260419T211230Z
DTSTART:20260702T193000Z
DTEND:20260702T233000Z
LOCATION:
SUMMARY:Soirée Spritz - Vins Duvernay - Bonne - 74
DESCRIPTION:&nbsp; &nbsp; https://www.vinsduvernay.com/\nhttps://roseetwill
 y.fr/events/soiree-spritz-caves-duvernay-bonne-74/
URL:https://roseetwilly.fr/events/soiree-spritz-caves-duvernay-bonne-74/
END:VEVENT
END:VCALENDAR