BEGIN:VCALENDAR
VERSION:2.0
PRODID:-//eventon.com NONSGML v1.0//EN
CALSCALE:GREGORIAN
METHOD:PUBLISH
BEGIN:VEVENT
UID:69e545258dec8
DTSTAMP:20260419T211205Z
DTSTART:20260723T183000Z
DTEND:20260723T210000Z
LOCATION:
SUMMARY:Concert pour l'Office du Tourisme de Manigod - 74
DESCRIPTION:Concert pour l'Office du Tourisme de Manigod - 74\nhttps://rose
 etwilly.fr/events/concert-pour-loffice-du-tourisme-de-manigod-74/
URL:https://roseetwilly.fr/events/concert-pour-loffice-du-tourisme-de-manigod-74/
END:VEVENT
END:VCALENDAR