BEGIN:VCALENDAR
VERSION:2.0
PRODID:-//eventon.com NONSGML v1.0//EN
CALSCALE:GREGORIAN
METHOD:PUBLISH
BEGIN:VEVENT
UID:69e5456e280b0
DTSTAMP:20260419T211318Z
DTSTART:20260724T193000Z
DTEND:20260724T223000Z
LOCATION:
SUMMARY:Concert chez Jeanine - Meythet - 74
DESCRIPTION:Concert chez Jeanine - Meythet - 74\nhttps://roseetwilly.fr/eve
 nts/concert-chez-jeanine-meythet-74-3/
URL:https://roseetwilly.fr/events/concert-chez-jeanine-meythet-74-3/
END:VEVENT
END:VCALENDAR