BEGIN:VCALENDAR
VERSION:2.0
PRODID:-//eventon.com NONSGML v1.0//EN
CALSCALE:GREGORIAN
METHOD:PUBLISH
BEGIN:VEVENT
UID:69e5458e4dae8
DTSTAMP:20260419T211350Z
DTSTART:20260807T193000Z
DTEND:20260807T220000Z
LOCATION:
SUMMARY:Concert aux Caves du Paccaly - La Clusaz - 74
DESCRIPTION:Concert aux Caves du Paccaly - La Clusaz - 74\nhttps://roseetwi
 lly.fr/events/concert-aux-caves-du-paccaly-la-clusaz-74/
URL:https://roseetwilly.fr/events/concert-aux-caves-du-paccaly-la-clusaz-74/
END:VEVENT
END:VCALENDAR