BEGIN:VCALENDAR
VERSION:2.0
PRODID:-//eventon.com NONSGML v1.0//EN
CALSCALE:GREGORIAN
METHOD:PUBLISH
BEGIN:VEVENT
UID:69e54554c9cbc
DTSTAMP:20260419T211252Z
DTSTART:20260814T200000Z
DTEND:20260814T220000Z
LOCATION:
SUMMARY:Concert à la Roul'Haute - Col de la Forclaz - 74
DESCRIPTION:Concert à la Roul'Haute - Col de la Forclaz - 74\nhttps://rose
 etwilly.fr/events/concert-a-la-roulhaute-col-de-la-forclaz-74-2/
URL:https://roseetwilly.fr/events/concert-a-la-roulhaute-col-de-la-forclaz-74-2/
END:VEVENT
END:VCALENDAR