BEGIN:VCALENDAR
VERSION:2.0
PRODID:-//eventon.com NONSGML v1.0//EN
CALSCALE:GREGORIAN
METHOD:PUBLISH
BEGIN:VEVENT
UID:69e545e17abed
DTSTAMP:20260419T211513Z
DTSTART:20260904T200000Z
DTEND:20260904T230000Z
LOCATION:
SUMMARY:Concert au Café de mon Père - La Balme de Sillingy - 74
DESCRIPTION:Concert au Café de mon Père - La Balme de Sillingy - 74\nhttp
 s://roseetwilly.fr/events/concert-au-cafe-de-mon-pere-la-balme-de-sillingy-
 74/
URL:https://roseetwilly.fr/events/concert-au-cafe-de-mon-pere-la-balme-de-sillingy-74/
END:VEVENT
END:VCALENDAR