BEGIN:VCALENDAR
VERSION:2.0
PRODID:-//eventon.com NONSGML v1.0//EN
CALSCALE:GREGORIAN
METHOD:PUBLISH
BEGIN:VEVENT
UID:69e5453f98ed1
DTSTAMP:20260419T211231Z
DTSTART:20261120T200000Z
DTEND:20261120T230000Z
LOCATION:
SUMMARY:Wine More Time - Vins Duvernay - Bonne - 74
DESCRIPTION:&nbsp; &nbsp; https://www.vinsduvernay.com/\nhttps://roseetwill
 y.fr/events/wine-more-time-vins-duvernay-bonne-74-2/
URL:https://roseetwilly.fr/events/wine-more-time-vins-duvernay-bonne-74-2/
END:VEVENT
END:VCALENDAR