BEGIN:VCALENDAR
VERSION:2.0
PRODID:-//eventon.com NONSGML v1.0//EN
CALSCALE:GREGORIAN
METHOD:PUBLISH
BEGIN:VEVENT
UID:69e544c9cce8e
DTSTAMP:20260419T211033Z
DTSTART:20261121T203000Z
DTEND:20261121T233000Z
LOCATION:
SUMMARY:Concert au Craft And Draft - Epagny - 74
DESCRIPTION:Concert au Craft And Draft - Epagny - 74\nhttps://roseetwilly.f
 r/events/concert-au-craft-and-draft-epagny-74-2/
URL:https://roseetwilly.fr/events/concert-au-craft-and-draft-epagny-74-2/
END:VEVENT
END:VCALENDAR