BEGIN:VCALENDAR
VERSION:2.0
PRODID:-//eventon.com NONSGML v1.0//EN
CALSCALE:GREGORIAN
METHOD:PUBLISH
BEGIN:VEVENT
UID:69e54515411ee
DTSTAMP:20260419T211149Z
DTSTART:20261122T203000Z
DTEND:20261122T220000Z
LOCATION:
SUMMARY:Concert pour la Marché de Noël du Casino Grand Cercle - Aix les Bains -73
DESCRIPTION:Concert pour la Marché de Noël du Casino Grand Cercle - Aix l
 es Bains -73\nhttps://roseetwilly.fr/events/concert-pour-la-marche-de-noel-
 du-casino-grand-cercle-aix-les-bains-73/
URL:https://roseetwilly.fr/events/concert-pour-la-marche-de-noel-du-casino-grand-cercle-aix-les-bains-73/
END:VEVENT
END:VCALENDAR