BEGIN:VCALENDAR
VERSION:2.0
PRODID:-//eventon.com NONSGML v1.0//EN
CALSCALE:GREGORIAN
METHOD:PUBLISH
BEGIN:VEVENT
UID:69e54554c9836
DTSTAMP:20260419T211252Z
DTSTART:20261216T120000Z
DTEND:20261216T160000Z
LOCATION:
SUMMARY:Concert de Noël à l'EMS de Vessy - Suisse
DESCRIPTION:Concert de Noël à l'EMS de Vessy - Suisse\nhttps://roseetwill
 y.fr/events/concert-de-noel-a-lems-de-vessy-suisse/
URL:https://roseetwilly.fr/events/concert-de-noel-a-lems-de-vessy-suisse/
END:VEVENT
END:VCALENDAR